BEGIN:VCALENDAR
VERSION:2.0
PRODID:-//eventon.com NONSGML v1.0//EN
BEGIN:VEVENT
UID:69e9da656b089
DTSTAMP:20260423T013757
DTSTART:20220531T190000Z
DTEND:20220531T200000Z
TZID:America/Los_Angeles
LOCATION:Central Park 420 Central Avenue  Salinas\,  CA 93901
SUMMARY:Mind\,  Body & Soul - Health & Mental Wellness
DESCRIPTION: Join Blue Zones Project\,  Marriage and Family Therapist\,  Lianne Avila\,  and Respiratory Care Hartnell College student\,  Jacinta Atilano\,  for a wellness hour. We will discuss mental health\,  mindfulness and self care while moving naturally and getting fresh air! Each session will include: 5 minute mindfulness soft landing\,  25 minute walk[..]\nhttps://www.planetree-sv.org/events/mind-body-soul-health-mental-wellness/var/ri-4.l-L1
URL:https://www.planetree-sv.org/events/mind-body-soul-health-mental-wellness/var/ri-4.l-L1
END:VEVENT
END:VCALENDAR