BEGIN:VCALENDAR
VERSION:2.0
PRODID:-//eventon.com NONSGML v1.0//EN
BEGIN:VEVENT
UID:69ea4f475d1b7
DTSTAMP:20260423T095639
DTSTART:20220716T163000Z
DTEND:20220716T180000Z
TZID:America/Los_Angeles
LOCATION:
SUMMARY:EDRC Family & Loved Ones Support Group
DESCRIPTION: The Eating Disorders Resource Center&#8217;s weekly support group for the family and friends of people suffering from eating disorders. You will need to sign in for the meeting using the link below. Once you do\,  you will automatically receive an email with the link to join the meeting. You will[..]\nhttps://www.planetree-sv.org/events/edrc-family-loved-ones-support-group-2/var/event_access
URL:https://www.planetree-sv.org/events/edrc-family-loved-ones-support-group-2/var/event_access
END:VEVENT
END:VCALENDAR