BEGIN:VCALENDAR
VERSION:2.0
PRODID:-//eventon.com NONSGML v1.0//EN
BEGIN:VEVENT
UID:69ead0f6a790f
DTSTAMP:20260423T190958
DTSTART:20220816T210000Z
DTEND:20220816T223000Z
TZID:America/Los_Angeles
LOCATION:Valley Caregiver Resource Center 5363 N. Fresno Street\,  Fresno CA 93710
SUMMARY:Elder Estate Planning
DESCRIPTION: Hybrid – Open to all In-Person\,  Limited Space\,  20 registrants only Tuesday\,  August 16\,  2022\,  2:00 pm to 3:30 Call us at (559) 224-9154 or (800) 541-8614 for more information\nhttps://www.planetree-sv.org/events/elder-estate-planning/var/event_access
URL:https://www.planetree-sv.org/events/elder-estate-planning/var/event_access
END:VEVENT
END:VCALENDAR