BEGIN:VCALENDAR
VERSION:2.0
PRODID:-//eventon.com NONSGML v1.0//EN
BEGIN:VEVENT
UID:69eab894773d7
DTSTAMP:20260423T172556
DTSTART:20220816T223000Z
DTEND:20220817T000000Z
TZID:America/Los_Angeles
LOCATION:
SUMMARY:Conduciendo y Demencia
DESCRIPTION: Inland Caregiver Resource Center los invita a un taller virtual. Oprima el enlace siguiente o llámenos al (800) 675-6694 para más información.   *Registración Requerida*  Enlace de registración:  https://us06web.zoom.us/meeting/register/tZIudeutqz8tGNOPC0DWbNvmwxmWSveZv5SN ¿No tiene cuenta de Zoom? Llame para participar por teléfono.  Llame al: 1-669-900-6833  Numero de Junta:  863 2255 4727 Contraseña: 514398\nhttps://www.planetree-sv.org/events/conduciendo-y-demencia/var/event_access
URL:https://www.planetree-sv.org/events/conduciendo-y-demencia/var/event_access
END:VEVENT
END:VCALENDAR