BEGIN:VCALENDAR
VERSION:2.0
PRODID:-//eventon.com NONSGML v1.0//EN
BEGIN:VEVENT
UID:69eabab19a7fe
DTSTAMP:20260423T173457
DTSTART:20220817T210000Z
DTEND:20220817T223000Z
TZID:America/Los_Angeles
LOCATION:Valley Caregiver Resource Center 5363 N. Fresno Street\,  Fresno CA 93710
SUMMARY:Hospice vs. Palliative Care
DESCRIPTION: In-Person\,  Limited Space\,  20 Registrants only Wednesday\,  August 17\,  2022\,  2:00 pm to 3:30 pm Call us at (559) 224-9154 or (800) 541-8614 for more information.\nhttps://www.planetree-sv.org/events/hospice-vs-palliative-care/var/event_access
URL:https://www.planetree-sv.org/events/hospice-vs-palliative-care/var/event_access
END:VEVENT
END:VCALENDAR