BEGIN:VCALENDAR
VERSION:2.0
PRODID:-//eventon.com NONSGML v1.0//EN
BEGIN:VEVENT
UID:69ea4e390cd0b
DTSTAMP:20260423T095209
DTSTART:20221202T213000Z
DTEND:20221202T110000Z
TZID:America/Los_Angeles
LOCATION:
SUMMARY:Bipolaridad (Spanish only)
DESCRIPTION: Inland Caregiver Resource Center los invita a un taller virtual. Oprima el enlace siguiente o llámenos al (800) 675-6694 para más información. *Registración Requerida* Enlace de registración: https://us06web.zoom.us/meeting/register/tZclf&#8211;rqjguHdM-7jRlB_3ocrqB5hglTuE3 ¿No tiene cuenta de Zoom? Llame para participar por teléfono. Llame al: 1-669-900-6833 Numero de Junta: 838 8634 3477 Contraseña: 036165\nhttps://www.planetree-sv.org/events/bipolaridad-spanish-only/var/event_access
URL:https://www.planetree-sv.org/events/bipolaridad-spanish-only/var/event_access
END:VEVENT
END:VCALENDAR