BEGIN:VCALENDAR
VERSION:2.0
PRODID:-//eventon.com NONSGML v1.0//EN
BEGIN:VEVENT
UID:69ea37a0d3193
DTSTAMP:20260423T081544
DTSTART:20221205T220000Z
DTEND:20221205T233000Z
TZID:America/Los_Angeles
LOCATION:
SUMMARY:Parkinson's Disease & Caregiving
DESCRIPTION: Preparing for caregiving starts with education. Early Parkinson’s disease (PD) usually requires more emotional support and less hands-on care. It is a good time for family members/caregivers to educate themselves about the disease. Inland Caregiver Resource Center is inviting you to a virtual caregiver workshop! Click the link below to[..]\nhttps://www.planetree-sv.org/events/parkinsons-disease-caregiving/var/event_access
URL:https://www.planetree-sv.org/events/parkinsons-disease-caregiving/var/event_access
END:VEVENT
END:VCALENDAR