BEGIN:VCALENDAR
VERSION:2.0
PRODID:-//eventon.com NONSGML v1.0//EN
BEGIN:VEVENT
UID:69ea1ea3366b6
DTSTAMP:20260423T062907
DTSTART:20221207T000000Z
DTEND:20221207T013000Z
TZID:America/Los_Angeles
LOCATION:
SUMMARY:‘Sandwiched’ Speaker Series: How to Engage in Meaningful Self-Care
DESCRIPTION: Self-care is oftentimes one more thing on the list and tends to fall to wayside when others depend on you. Join Stefani Wilson\,  Family Consultant at Del Oro Caregiver Resource Center\,  for a discussion around meaningful self-care strategies to tend to your own well-being and walk away with a few[..]\nhttps://www.planetree-sv.org/events/sandwiched-speaker-series-how-to-engage-in-meaningful-self-care/var/event_access
URL:https://www.planetree-sv.org/events/sandwiched-speaker-series-how-to-engage-in-meaningful-self-care/var/event_access
END:VEVENT
END:VCALENDAR