BEGIN:VCALENDAR
VERSION:2.0
PRODID:-//eventon.com NONSGML v1.0//EN
BEGIN:VEVENT
UID:69ea057bb00dc
DTSTAMP:20260423T044147
DTSTART:20221207T180000Z
DTEND:20221207T193000Z
TZID:America/Los_Angeles
LOCATION:
SUMMARY:Understanding & Responding to Dementia Behaviors
DESCRIPTION: The Alzheimer&#8217;s Association will be presenting information on Understanding & Responding to Dementia Behaviors. Inland Caregiver Resource Center is inviting you to a virtual caregiver workshop!   Click the link below to register or call in today at (800) 675-6694 for more information.  *Registration Required *  Registration Link: https://us06web.zoom.us/meeting/register/tZ0udOGtpjoqG9P2KcHGE77iVE-YunpLZUw2 Don’t have[..]\nhttps://www.planetree-sv.org/events/understanding-responding-to-dementia-behaviors/var/event_access
URL:https://www.planetree-sv.org/events/understanding-responding-to-dementia-behaviors/var/event_access
END:VEVENT
END:VCALENDAR