BEGIN:VCALENDAR
VERSION:2.0
PRODID:-//eventon.com NONSGML v1.0//EN
BEGIN:VEVENT
UID:69e9ef73e3624
DTSTAMP:20260423T030747
DTSTART:20221210T180000Z
DTEND:20221210T193000Z
TZID:America/Los_Angeles
LOCATION:
SUMMARY:Prevención de caídas (Spanish only)
DESCRIPTION: Inland Caregiver Resource Center los invita a un taller virtual.Oprima el enlace siguiente o llámenos al (800) 675-6694 para más información.   *Registración Requerida* Enlace de registración: https://us06web.zoom.us/meeting/register/tZYpce2urT4oG9VEBm50Y-q1quvkxxvFwh4p  ¿No tiene cuenta de Zoom? Llame para participar por teléfono.  Llame al: 1-669-900-6833  Numero de Junta:  824 6463 5211 Contraseña: 502743\nhttps://www.planetree-sv.org/events/prevencion-de-caidas-spanish-only/var/event_access
URL:https://www.planetree-sv.org/events/prevencion-de-caidas-spanish-only/var/event_access
END:VEVENT
END:VCALENDAR