BEGIN:VCALENDAR
VERSION:2.0
PRODID:-//eventon.com NONSGML v1.0//EN
BEGIN:VEVENT
UID:69e9d8ac6d551
DTSTAMP:20260423T013036
DTSTART:20221208T180000Z
DTEND:20221208T193000Z
TZID:America/Los_Angeles
LOCATION:
SUMMARY:Placement Options
DESCRIPTION: Mary Lou Marquez\,  a social worker with Care Patrol\,  a placement agency\,  will present this workshop. Mary Lou has worked in senior healthcare for a long time and Care Patrol has a lot of experience with helping families find the right place for families to place their loved ones. Mary[..]\nhttps://www.planetree-sv.org/events/placement-options/var/event_access
URL:https://www.planetree-sv.org/events/placement-options/var/event_access
END:VEVENT
END:VCALENDAR