BEGIN:VCALENDAR
VERSION:2.0
PRODID:-//eventon.com NONSGML v1.0//EN
BEGIN:VEVENT
UID:69e9c0eb232ee
DTSTAMP:20260422T234915
DTSTART:20221209T203000Z
DTEND:20221209T100000Z
TZID:America/Los_Angeles
LOCATION:
SUMMARY:My Father’s House: A Journey of Love and Memory and Quiet Triumphs
DESCRIPTION: Video: These films focus on the caregiving journey—following a daughter’s experiencing of caring for her father through the final stage of dementia\,  including his death. They explore some of the good that can come out of caregiving. Caregivers discuss their experiences of gratitude and growth in the midst of the[..]\nhttps://www.planetree-sv.org/events/my-fathers-house-a-journey-of-love-and-memory-and-quiet-triumphs/var/event_access
URL:https://www.planetree-sv.org/events/my-fathers-house-a-journey-of-love-and-memory-and-quiet-triumphs/var/event_access
END:VEVENT
END:VCALENDAR