BEGIN:VCALENDAR
VERSION:2.0
PRODID:-//eventon.com NONSGML v1.0//EN
BEGIN:VEVENT
UID:69e84a604e5d2
DTSTAMP:20260421T211112
DTSTART:20221215T210000Z
DTEND:20221215T230000Z
TZID:America/Los_Angeles
LOCATION:Rooftop Medicine Farm 5110 Telegraph Avenue Oakland\,  CA 94609
SUMMARY:Thursday Volunteer Days at the Rooftop Medicine Farm!
DESCRIPTION: The Rooftop Medicine Farm is the urban outpost for the Deep Medicine Circle(DMC)&#8217;s Farming is Medicine project. The DMC is a women of color-led organization formed to heal the wounds of colonialism through food\,  medicine\,  story\,  restoration and learning. Our rooftop farmers use agroecological practices to seed\,  grow and give away[..]\nhttps://www.planetree-sv.org/events/thursday-volunteer-days-at-the-rooftop-medicine-farm-2/var/ri-1.l-L1
URL:https://www.planetree-sv.org/events/thursday-volunteer-days-at-the-rooftop-medicine-farm-2/var/ri-1.l-L1
END:VEVENT
END:VCALENDAR