BEGIN:VCALENDAR
VERSION:2.0
PRODID:-//eventon.com NONSGML v1.0//EN
BEGIN:VEVENT
UID:69ea5380638c9
DTSTAMP:20260423T101440
DTSTART:20230411T010000Z
DTEND:20230411T023000Z
TZID:America/Los_Angeles
LOCATION:
SUMMARY:Respite Options
DESCRIPTION: Learn about what options are available for respite care\,  allowing you as a caregiver to take time for yourself to rest\,  recharge and take care of you.\nhttps://www.planetree-sv.org/events/respite-options/var/event_access
URL:https://www.planetree-sv.org/events/respite-options/var/event_access
END:VEVENT
END:VCALENDAR