BEGIN:VCALENDAR
VERSION:2.0
PRODID:-//eventon.com NONSGML v1.0//EN
BEGIN:VEVENT
UID:69ea3b038b426
DTSTAMP:20260423T083011
DTSTART:20230411T200000Z
DTEND:20230411T213000Z
TZID:America/Los_Angeles
LOCATION:
SUMMARY:Ask the Elder Law Attorney- Esther Wang\,  Elder & Disability Law Firm
DESCRIPTION: Esther Wang\,  Elder Law Attorney with Elder & Disability Law Firm is back to answer all your questions. Get your list of questions ready and register today!\nhttps://www.planetree-sv.org/events/ask-the-elder-law-attorney-esther-wang-elder-disability-law-firm-4/var/event_access
URL:https://www.planetree-sv.org/events/ask-the-elder-law-attorney-esther-wang-elder-disability-law-firm-4/var/event_access
END:VEVENT
END:VCALENDAR