BEGIN:VCALENDAR
VERSION:2.0
PRODID:-//eventon.com NONSGML v1.0//EN
BEGIN:VEVENT
UID:69ea22da62d7f
DTSTAMP:20260423T064706
DTSTART:20230413T003000Z
DTEND:20230413T013000Z
TZID:America/Los_Angeles
LOCATION:
SUMMARY:Conozca las 10 Señales de Advertencia (10 Warning Signs of Alzheimer’s & Dementia - in partnership with Alzheimer’s Association)
DESCRIPTION: Las señales de la enfermedad de Alzheimer frecuentemente se creen ser una parte normal del envejecimiento\,  lo cual no es cierto. Si usted o alguien conocido parecen estar perdiendo la memoria o tiene cambios de comportamiento\,  es hora de aprender acerca de los síntomas.\nhttps://www.planetree-sv.org/events/conozca-las-10-senales-de-advertencia-10-warning-signs-of-alzheimers-dementia-in-partnership-with-alzheimers-association/var/event_access
URL:https://www.planetree-sv.org/events/conozca-las-10-senales-de-advertencia-10-warning-signs-of-alzheimers-dementia-in-partnership-with-alzheimers-association/var/event_access
END:VEVENT
END:VCALENDAR