BEGIN:VCALENDAR
VERSION:2.0
PRODID:-//eventon.com NONSGML v1.0//EN
BEGIN:VEVENT
UID:69ea0cbfee7b6
DTSTAMP:20260423T051247
DTSTART:20230413T170000Z
DTEND:20230413T183000Z
TZID:America/Los_Angeles
LOCATION:
SUMMARY:California Connect
DESCRIPTION: California Connect\,  also called the Deaf and Disabled Telecommunications Program\,  provides communication access for Californians with hearing\,  vision\,  cognitive\,  mobility\,  and speech-related disabilities. Join to learn more.\nhttps://www.planetree-sv.org/events/california-connect/var/event_access
URL:https://www.planetree-sv.org/events/california-connect/var/event_access
END:VEVENT
END:VCALENDAR