BEGIN:VCALENDAR
VERSION:2.0
PRODID:-//eventon.com NONSGML v1.0//EN
BEGIN:VEVENT
UID:69e9f46ade41f
DTSTAMP:20260423T032858
DTSTART:20230413T210000Z
DTEND:20230413T223000Z
TZID:America/Los_Angeles
LOCATION:
SUMMARY:Long-Term Care Planning (Hybrid)
DESCRIPTION: “Long-Term Care Planning” is a 90-minute class presented by Valley Caregiver Resource Center. Our guest speaker\,  Vince Mastro\,  CLU\,  AIF\,  Associate and LPL Wealth Advisor from Theisen Dueker Financial Consulting Group\,  will be talking about developing a plan before care is needed\,  what is long term care\,  the cost of[..]\nhttps://www.planetree-sv.org/events/long-term-care-planning-hybrid/var/event_access
URL:https://www.planetree-sv.org/events/long-term-care-planning-hybrid/var/event_access
END:VEVENT
END:VCALENDAR