BEGIN:VCALENDAR
VERSION:2.0
PRODID:-//eventon.com NONSGML v1.0//EN
BEGIN:VEVENT
UID:69e9de35a6c01
DTSTAMP:20260423T015413
DTSTART:20230414T180000Z
DTEND:20230414T193000Z
TZID:America/Los_Angeles
LOCATION:
SUMMARY:Apr What is the Ombudsman Program and how can they help you?
DESCRIPTION: Caregiver Resource Center OC will be joined by the Orange County Ombudsman program to discuss what their program is\,  how they can help you\,  and what you can utilize them for on your caregiving journey.\nhttps://www.planetree-sv.org/events/apr-what-is-the-ombudsman-program-and-how-can-they-help-you/var/event_access
URL:https://www.planetree-sv.org/events/apr-what-is-the-ombudsman-program-and-how-can-they-help-you/var/event_access
END:VEVENT
END:VCALENDAR