BEGIN:VCALENDAR
VERSION:2.0
PRODID:-//eventon.com NONSGML v1.0//EN
BEGIN:VEVENT
UID:69e9f4fb317ef
DTSTAMP:20260423T033123
DTSTART:20230414T193000Z
DTEND:20230414T210000Z
TZID:America/Los_Angeles
LOCATION:
SUMMARY:Managing and Understanding Behavior Problems in Alzheimer’s Disease and Related Disorders
DESCRIPTION: Managing and Understanding Behavior Problems in Alzheimer’s Disease and Related Disorders—This video introduces coping strategies for accommodating challenging dementia-related behaviors\,  including The ABC approach. This approach identifies where caregivers have control and where they do not and can help frustrated caregivers gain a sense of empowerment. Discussion: Shifting the goal[..]\nhttps://www.planetree-sv.org/events/managing-and-understanding-behavior-problems-in-alzheimers-disease-and-related-disorders-2/var/event_access
URL:https://www.planetree-sv.org/events/managing-and-understanding-behavior-problems-in-alzheimers-disease-and-related-disorders-2/var/event_access
END:VEVENT
END:VCALENDAR