BEGIN:VCALENDAR
VERSION:2.0
PRODID:-//eventon.com NONSGML v1.0//EN
BEGIN:VEVENT
UID:69ebc88c92c7e
DTSTAMP:20260424T124620
DTSTART:20230427T173000Z
DTEND:20230427T190000Z
TZID:America/Los_Angeles
LOCATION:
SUMMARY:Apr Lựa Chọn Nghỉ Ngơi/Respite Options
DESCRIPTION: Hãy cùng chúng tôi để học hỏi thêm về các lựa chọn nghỉ ngơi khác nhau có sẵn cho người chăm sóc. Điều quan trọng là người chăm sóc cần nghỉ ngơi và dành thời gian cho chính họ. Lớp học này sẽ cung cấp thông tin về cách truy[..]\nhttps://www.planetree-sv.org/events/apr-lua-chon-nghi-ngoi-respite-options/var/event_access
URL:https://www.planetree-sv.org/events/apr-lua-chon-nghi-ngoi-respite-options/var/event_access
END:VEVENT
END:VCALENDAR