BEGIN:VCALENDAR
VERSION:2.0
PRODID:-//eventon.com NONSGML v1.0//EN
BEGIN:VEVENT
UID:69eb524d2ac37
DTSTAMP:20260424T042149
DTSTART:20230503T020000Z
DTEND:20230509T030000Z
TZID:America/Los_Angeles
LOCATION:
SUMMARY:Hepatitis B in Asian Americans: What You Can Do to Lower Your Risk
DESCRIPTION: Free and open to everyone Chronic hepatitis B is a vaccine-preventable and treatable chronic disease of the liver and the leading cause of liver cancer worldwide as a result of infection with the hepatitis B virus (HBV). In the United States\,  1 in 12 Asian Americans is living with chronic[..]\nhttps://www.planetree-sv.org/events/hepatitis-b-in-asian-americans-what-you-can-do-to-lower-your-risk/var/event_access
URL:https://www.planetree-sv.org/events/hepatitis-b-in-asian-americans-what-you-can-do-to-lower-your-risk/var/event_access
END:VEVENT
END:VCALENDAR