BEGIN:VCALENDAR
VERSION:2.0
PRODID:-//eventon.com NONSGML v1.0//EN
BEGIN:VEVENT
UID:69eb6a94f371c
DTSTAMP:20260424T060524
DTSTART:20230505T020000Z
DTEND:20230505T030000Z
TZID:America/Los_Angeles
LOCATION:
SUMMARY:Breathing Easy: Understanding and Managing Asthma in Adults
DESCRIPTION: Free and open to everyone Allergic and nonallergic asthma are chronic lung conditions that affect millions of people worldwide. Lauren Eggert\,  MD will discuss the causes and triggers of asthma as well as strategies for managing symptoms and preventing attacks. Lauren Eggert\,  MD\,  is a board-certified\,  fellowship-trained pulmonologist and a[..]\nhttps://www.planetree-sv.org/events/breathing-easy-understanding-and-managing-asthma-in-adults/var/event_access
URL:https://www.planetree-sv.org/events/breathing-easy-understanding-and-managing-asthma-in-adults/var/event_access
END:VEVENT
END:VCALENDAR