BEGIN:VCALENDAR
VERSION:2.0
PRODID:-//eventon.com NONSGML v1.0//EN
BEGIN:VEVENT
UID:69eb807e0faca
DTSTAMP:20260424T073854
DTSTART:20230512T020000Z
DTEND:20230512T030000Z
TZID:America/Los_Angeles
LOCATION:
SUMMARY:Say Goodbye to Heartburn: Understanding and Managing Gastroesophageal Reflux Disease (GERD) for a Healthier You
DESCRIPTION: Free and open to everyone Learn about the causes\,  symptoms\,  and potential complications of GERD\,  as well as effective management strategies for this chronic condition. Randall Stafford\,  MD\,  PhD\,  will discuss lifestyle modifications\,  dietary changes\,  and medications that can help relieve symptoms and improve quality of life. He will also[..]\nhttps://www.planetree-sv.org/events/say-goodbye-to-heartburn-understanding-and-managing-gastroesophageal-reflux-disease-gerd-for-a-healthier-you/var/event_access
URL:https://www.planetree-sv.org/events/say-goodbye-to-heartburn-understanding-and-managing-gastroesophageal-reflux-disease-gerd-for-a-healthier-you/var/event_access
END:VEVENT
END:VCALENDAR